BEGIN:VCALENDAR
PRODID:-//github.com/rianjs/ical.net//NONSGML ical.net 4.0//EN
VERSION:2.0
BEGIN:VEVENT
DESCRIPTION:Eksamen engelsk vg1
DTEND:20230531T235959
DTSTAMP:20260419T131056Z
DTSTART;VALUE=DATE:20230531
SEQUENCE:0
SUMMARY:Eksamen engelsk vg1
UID:514b96e8-0b0d-4966-952a-af679ee1bb3e
END:VEVENT
END:VCALENDAR
